BEGIN:VCALENDAR
VERSION:2.0
PRODID:-//Information Technology - ECPv6.0.10//NONSGML v1.0//EN
CALSCALE:GREGORIAN
METHOD:PUBLISH
X-WR-CALNAME:Information Technology
X-ORIGINAL-URL:https://it.rutgers.edu
X-WR-CALDESC:Events for Information Technology
REFRESH-INTERVAL;VALUE=DURATION:PT1H
X-Robots-Tag:noindex
X-PUBLISHED-TTL:PT1H
BEGIN:VTIMEZONE
TZID:America/New_York
BEGIN:DAYLIGHT
TZOFFSETFROM:-0500
TZOFFSETTO:-0400
TZNAME:EDT
DTSTART:20210314T070000
END:DAYLIGHT
BEGIN:STANDARD
TZOFFSETFROM:-0400
TZOFFSETTO:-0500
TZNAME:EST
DTSTART:20211107T060000
END:STANDARD
END:VTIMEZONE
BEGIN:VEVENT
DTSTART;TZID=America/New_York:20210122T130000
DTEND;TZID=America/New_York:20210122T160000
DTSTAMP:20260421T232543
CREATED:20201203T023744Z
LAST-MODIFIED:20241024T200624Z
UID:7044-1611320400-1611331200@it.rutgers.edu
SUMMARY:Intro to Python (on-line)
DESCRIPTION:Register to attend the workshop at the bottom of this page. Zoom link will be emailed after filling out the registration form. \nAmarel account: Apply here as soon as possible. \nVPN setup: You have to be connected on Rutgers’ network or be on VPN  to access Amarel resources. \nSSH setup: Windows users must install an SSH client like PuTTY or MobaXterm. \nWorkshop content: This three hour workshop focuses on learning the basics of python programming including data types\, conditionals\, functions\, and python in HPC environment. \n**NOTE** Just observing is welcome\, but to participate in hands-on activities\, you must have an Amarel account setup before the workshop. Please complete our web-based form at least 24 hours before the workshop (do this as soon as possible). \nIf you have questions or need help\, please contact Bala Desinghu.\n\nRegister to attend the workshop:\n\n	Notice: JavaScript is required for this content.
URL:https://it.rutgers.edu/event/intro-to-python-on-line-1-22-21/
CATEGORIES:OARC
END:VEVENT
BEGIN:VEVENT
DTSTART;TZID=America/New_York:20210129T130000
DTEND;TZID=America/New_York:20210129T160000
DTSTAMP:20260421T232543
CREATED:20201203T025447Z
LAST-MODIFIED:20241024T200502Z
UID:7059-1611925200-1611936000@it.rutgers.edu
SUMMARY:Python for Big Data (on-line)
DESCRIPTION:Register to attend the workshop at the bottom of this page. Zoom link will be emailed after filling out the registration form. \nAmarel account: Apply here as soon as possible. \nVPN setup: You have to be connected on Rutgers’ network or be on VPN  to access Amarel resources. \nSSH setup: Windows users must install an SSH client like PuTTY or MobaXterm. \nWorkshop content: This three hour workshop focuses on learning the python tools and techniques to work with big data that demand CPU and memory.  It covers the basics of Numpy\, Pandas\, Numba\, and Dask. \n**Note** Just observing is welcome\, but to participate in hands-on activities\, you must have an Amarel account setup before the workshop. Please complete our web-based form at least 24 hours before the workshop (do this as soon as possible). \nIf you have questions or need help\, please contact Bala Desinghu.Register to attend the workshop:\n	Notice: JavaScript is required for this content.\nNo Fields Found.
URL:https://it.rutgers.edu/event/python-for-big-data-on-line-1-29-21/
CATEGORIES:OARC
END:VEVENT
BEGIN:VEVENT
DTSTART;TZID=America/New_York:20210217T120000
DTEND;TZID=America/New_York:20210217T130000
DTSTAMP:20260421T232543
CREATED:20210204T011830Z
LAST-MODIFIED:20241024T200441Z
UID:8998-1613563200-1613566800@it.rutgers.edu
SUMMARY:Introduction to ArcGIS Online
DESCRIPTION:In this short\, interactive workshop\, we will focus on ArcGIS Online basics\, explore the interface\, add and visualize data\, create a shareable web map. \n			\n				Learn more and register
URL:https://it.rutgers.edu/event/introduction-to-arcgis-online-02-17-21/
CATEGORIES:OARC
END:VEVENT
BEGIN:VEVENT
DTSTART;TZID=America/New_York:20210305T140000
DTEND;TZID=America/New_York:20210305T170000
DTSTAMP:20260421T232543
CREATED:20210204T001141Z
LAST-MODIFIED:20241024T200306Z
UID:8954-1614952800-1614963600@it.rutgers.edu
SUMMARY:Intro to Linux Command Line
DESCRIPTION:Register to attend this workshop at the bottom of this page. Zoom link will be emailed after filling out the registration form. \nAmarel account: Apply here as soon as possible. \nVPN setup: You have to be connected on Rutgers’ network or be on VPN to access Amarel resources. \nSSH setup: Windows users must install an SSH client like PuTTY or MobaXterm. Alternatively\, Windows 10 users can install the complete Windows Subsystem for Linux. \nWorkshop content: This 3-hour workshop offers a brief introduction to using the Linux operating system\, focusing on command-line operations. The primary objective is to provide beginner-level familiarity with using a Linux system for common research computing tasks. Linux systems (e.g.\, workstations\, remote servers\, computing clusters) can be thought of as the foundation of research computing. \n**Note** Just observing is welcome\, but to participate in hands-on activities\, you must have an Amarel account setup before the workshop. Please complete our web-based form at least 24 hours before the workshop (do this as soon as possible). \nIf you have questions or need help\, please email Bala Desinghu. \nRegister to attend the workshop:\n \n	Notice: JavaScript is required for this content.\nNo Fields Found.\n\n    \n\n\n        \n        \n         \n			\n			\n				\n				\n				\n				\n				\n				\n				\n				\n				\n				 Back to March OARC events calendar
URL:https://it.rutgers.edu/event/intro-to-linux-command-line-on-line-03-05-21/
CATEGORIES:OARC
END:VEVENT
BEGIN:VEVENT
DTSTART;TZID=America/New_York:20210611T100000
DTEND;TZID=America/New_York:20210611T130000
DTSTAMP:20260421T232543
CREATED:20210422T195414Z
LAST-MODIFIED:20210611T011053Z
UID:9942-1623405600-1623416400@it.rutgers.edu
SUMMARY:Intro to Deep learning with Python and Keras (Friday June 11)
DESCRIPTION:Register to attend the workshop at the bottom of this page. Zoom link will be emailed after filling out the registration form. \nAmarel account: Apply here as soon as possible. \nVPN setup: You have to be connected on Rutgers’ network or be on VPN  to access Amarel resources. \nSSH setup: Windows users must install an SSH client like PuTTY or MobaXterm. \nWorkshop content: This three hour workshop focuses on learning the basics of Deep Learning with Python and Keras including data preparation\, artificial neural networks (ANN)\, Convolutional Neural Networks (CNN)\, and Recurrent Neural Networks (RNN).  \n**NOTE** Just observing is welcome\, but to participate in hands-on activities\, you must have an Amarel account setup before the workshop. Please complete our web-based form at least 24 hours before the workshop (do this as soon as possible). \nIf you have questions or need help\, please contact Bala Desinghu.Register to attend the workshop:\n    Notice: JavaScript is required for this content. \n\n\n\n        \n        var formDisplay=1;var nfForms=nfForms||[];var form=[];form.id=’14’;form.settings={“objectType”:”Form Setting”\,”editActive”:true\,”title”:”06-11-21 Intro to Deep Learning with Python and Keras (on-line)”\,”created_at”:”2021-03-16 15:35:47″\,”form_title”:”03-30-21 Intro to Deep Learning with Python and Keras (on-line)”\,”default_label_pos”:”above”\,”show_title”:”0″\,”clear_complete”:”1″\,”hide_complete”:”1″\,”logged_in”:”0″\,”date_updated”:”2020-02-19 18:37:34″\,”status”:””\,”append_page”:””\,”ajax”:”0″\,”not_logged_in_msg”:””\,”sub_limit_number”:””\,”sub_limit_msg”:””\,”last_sub”:”4″\,”wrapper_class”:””\,”element_class”:””\,”key”:””\,”add_submit”:”1″\,”currency”:””\,”unique_field_error”:”A form with this value has already been submitted.”\,”calculations”:[]\,”formContentData”:[“hr_557″\,”textbox_558″\,”lastname_559″\,”email_560″\,”confirm_your_rutgers_email_address_above_1615917708391″\,”textbox_561″\,”listselect_562″\,”textbox_563″\,”textbox_564″\,”listselect_565″\,”submit_566″]\,”drawerDisabled”:false\,”changeEmailErrorMsg”:”Please enter a valid email address!”\,”changeDateErrorMsg”:”Please enter a valid date!”\,”confirmFieldErrorMsg”:”These fields must match!”\,”fieldNumberNumMinError”:”Number Min Error”\,”fieldNumberNumMaxError”:”Number Max Error”\,”fieldNumberIncrementBy”:”Please increment by “\,”formErrorsCorrectErrors”:”Please correct errors before submitting this form.”\,”validateRequiredField”:”This is a required field.”\,”honeypotHoneypotError”:”Honeypot Error”\,”fieldsMarkedRequired”:”Fields marked with an * are required”\,”allow_public_link”:0\,”embed_form”:””\,”ninjaForms”:”Ninja Forms”\,”fieldTextareaRTEInsertLink”:”Insert Link”\,”fieldTextareaRTEInsertMedia”:”Insert Media”\,”fieldTextareaRTESelectAFile”:”Select a file”\,”formHoneypot”:”If you are a human seeing this field\, please leave it empty.”\,”fileUploadOldCodeFileUploadInProgress”:”File Upload in Progress.”\,”fileUploadOldCodeFileUpload”:”FILE UPLOAD”\,”currencySymbol”:false\,”thousands_sep”:”\,”\,”decimal_point”:”.”\,”siteLocale”:”en_US”\,”dateFormat”:”m\/d\/Y”\,”startOfWeek”:”0″\,”of”:”of”\,”previousMonth”:”Previous Month”\,”nextMonth”:”Next Month”\,”months”:[“January”\,”February”\,”March”\,”April”\,”May”\,”June”\,”July”\,”August”\,”September”\,”October”\,”November”\,”December”]\,”monthsShort”:[“Jan”\,”Feb”\,”Mar”\,”Apr”\,”May”\,”Jun”\,”Jul”\,”Aug”\,”Sep”\,”Oct”\,”Nov”\,”Dec”]\,”weekdays”:[“Sunday”\,”Monday”\,”Tuesday”\,”Wednesday”\,”Thursday”\,”Friday”\,”Saturday”]\,”weekdaysShort”:[“Sun”\,”Mon”\,”Tue”\,”Wed”\,”Thu”\,”Fri”\,”Sat”]\,”weekdaysMin”:[“Su”\,”Mo”\,”Tu”\,”We”\,”Th”\,”Fr”\,”Sa”]\,”currency_symbol”:””\,”beforeForm”:””\,”beforeFields”:””\,”afterFields”:””\,”afterForm”:””};form.fields=[{“objectType”:”Field”\,”objectDomain”:”fields”\,”editActive”:false\,”order”:1\,”type”:”hr”\,”label”:”hr”\,”input_limit_msg”:”character(s) left”\,”show_desc”:0\,”desc_pos”:”none”\,”key”:”hr_557″\,”desc_text”:””\,”element_class”:””\,”container_class”:””\,”field_label”:”hr”\,”field_key”:”hr_557″\,”id”:146\,”beforeField”:””\,”afterField”:””\,”value”:””\,”label_pos”:”above”\,”parentType”:”hr”\,”element_templates”:[“hr”\,”input”]\,”old_classname”:””\,”wrap_template”:”wrap”}\,{“objectType”:”Field”\,”objectDomain”:”fields”\,”editActive”:false\,”order”:2\,”type”:”textbox”\,”def_id”:6\,”label”:”First Name:”\,”label_pos”:”above”\,”datepicker”:0\,”first_name”:1\,”last_name”:0\,”from_name”:0\,”user_info_field_group”:1\,”show_help”:0\,”calc_auto_include”:0\,”calc_option”:0\,”disable_input”:0\,”input_limit_type”:”char”\,”user_state”:0\,”autocomplete_off”:0\,”num_sort”:0\,”show_desc”:0\,”desc_pos”:”none”\,”required”:1\,”key”:”textbox_558″\,”mask”:””\,”help_text”:””\,”conditional”:””\,”placeholder”:””\,”user_address_1″:””\,”user_address_2″:””\,”user_city”:””\,”user_zip”:””\,”user_phone”:””\,”user_email”:””\,”input_limit”:””\,”input_limit_msg”:””\,”admin_label”:””\,”user_info_field_group_name”:””\,”user_info_field_group_custom”:””\,”desc_text”:””\,”element_class”:””\,”default”:””\,”container_class”:””\,”manual_key”:””\,”custom_mask”:””\,”custom_name_attribute”:””\,”personally_identifiable”:””\,”value”:””\,”field_label”:”First Name:”\,”field_key”:”textbox_558″\,”drawerDisabled”:””\,”id”:147\,”beforeField”:””\,”afterField”:””\,”parentType”:”textbox”\,”element_templates”:[“textbox”\,”input”]\,”old_classname”:””\,”wrap_template”:”wrap”}\,{“objectType”:”Field”\,”objectDomain”:”fields”\,”editActive”:false\,”order”:3\,”type”:”lastname”\,”def_id”:7\,”label”:”Last Name:”\,”label_pos”:”above”\,”datepicker”:0\,”first_name”:0\,”from_name”:0\,”user_info_field_group”:1\,”show_help”:0\,”calc_auto_include”:0\,”calc_option”:0\,”disable_input”:0\,”input_limit_type”:”char”\,”user_state”:0\,”autocomplete_off”:0\,”num_sort”:0\,”show_desc”:0\,”desc_pos”:”none”\,”required”:1\,”key”:”lastname_559″\,”mask”:””\,”help_text”:””\,”conditional”:””\,”placeholder”:””\,”user_address_1″:””\,”user_address_2″:””\,”user_city”:””\,”user_zip”:””\,”user_phone”:””\,”user_email”:””\,”input_limit”:””\,”input_limit_msg”:””\,”admin_label”:””\,”user_info_field_group_name”:””\,”user_info_field_group_custom”:””\,”desc_text”:””\,”element_class”:””\,”default”:””\,”container_class”:””\,”custom_name_attribute”:”lname”\,”personally_identifiable”:1\,”value”:””\,”field_label”:”Last Name:”\,”field_key”:”lastname_559″\,”id”:148\,”beforeField”:””\,”afterField”:””\,”parentType”:”lastname”\,”element_templates”:[“lastname”\,”input”]\,”old_classname”:””\,”wrap_template”:”wrap”}\,{“objectType”:”Field”\,”objectDomain”:”fields”\,”editActive”:false\,”order”:4\,”type”:”email”\,”def_id”:14\,”label”:”Your Rutgers e-mail address (in case there are important updates about the workshop):”\,”label_pos”:”above”\,”datepicker”:0\,”first_name”:0\,”last_name”:0\,”from_name”:0\,”user_address_1″:0\,”user_address_2″:0\,”user_city”:0\,”user_zip”:0\,”user_phone”:0\,”user_info_field_group”:1\,”show_help”:0\,”calc_auto_include”:0\,”calc_option”:0\,”disable_input”:0\,”input_limit_type”:”char”\,”user_state”:0\,”autocomplete_off”:0\,”num_sort”:0\,”show_desc”:0\,”desc_pos”:”none”\,”required”:1\,”key”:”email_560″\,”mask”:””\,”help_text”:””\,”conditional”:””\,”placeholder”:””\,”input_limit”:””\,”input_limit_msg”:””\,”admin_label”:””\,”user_info_field_group_name”:””\,”user_info_field_group_custom”:””\,”desc_text”:””\,”element_class”:””\,”default”:””\,”container_class”:””\,”custom_name_attribute”:”email”\,”personally_identifiable”:1\,”value”:””\,”field_label”:”Your Rutgers e-mail address (in case there are important updates about the workshop):”\,”field_key”:”email_560″\,”id”:149\,”beforeField”:””\,”afterField”:””\,”parentType”:”email”\,”element_templates”:[“email”\,”input”]\,”old_classname”:””\,”wrap_template”:”wrap”}\,{“objectType”:”Field”\,”objectDomain”:”fields”\,”editActive”:false\,”order”:5\,”type”:”confirm”\,”label”:”Confirm your Rutgers email address above:”\,”key”:”confirm_your_rutgers_email_address_above_1615917708391″\,”label_pos”:”above”\,”required”:1\,”default”:””\,”placeholder”:””\,”container_class”:””\,”element_class”:””\,”input_limit”:””\,”input_limit_type”:”characters”\,”input_limit_msg”:”Character(s) left”\,”manual_key”:””\,”admin_label”:””\,”help_text”:””\,”confirm_field”:”email_560″\,”value”:””\,”drawerDisabled”:””\,”field_label”:”Confirm your Rutgers email address above:”\,”field_key”:”confirm_your_rutgers_email_address_above_1615917708391″\,”id”:150\,”beforeField”:””\,”afterField”:””\,”parentType”:”confirm”\,”element_templates”:[“input”]\,”old_classname”:””\,”wrap_template”:”wrap”}\,{“objectType”:”Field”\,”objectDomain”:”fields”\,”editActive”:false\,”order”:6\,”type”:”textbox”\,”label”:”Your Rutgers NetID:”\,”input_limit_msg”:”character(s) left”\,”label_pos”:”above”\,”user_info_field_group”:1\,”disable_input”:0\,”input_limit_type”:”char”\,”calc_auto_include”:0\,”datepicker”:0\,”user_state”:0\,”autocomplete_off”:0\,”num_sort”:0\,”show_help”:0\,”show_desc”:0\,”desc_pos”:”none”\,”required”:1\,”key”:”textbox_561″\,”placeholder”:””\,”first_name”:””\,”last_name”:””\,”user_address_1″:””\,”user_address_2″:””\,”user_city”:””\,”user_zip”:””\,”user_phone”:””\,”user_email”:””\,”mask”:””\,”input_limit”:””\,”admin_label”:””\,”user_info_field_group_name”:””\,”user_info_field_group_custom”:””\,”help_text”:””\,”desc_text”:””\,”element_class”:””\,”default”:””\,”container_class”:””\,”manual_key”:””\,”custom_mask”:””\,”custom_name_attribute”:””\,”personally_identifiable”:””\,”value”:””\,”field_label”:”Your Rutgers NetID:”\,”field_key”:”textbox_561″\,”id”:151\,”beforeField”:””\,”afterField”:””\,”parentType”:”textbox”\,”element_templates”:[“textbox”\,”input”]\,”old_classname”:””\,”wrap_template”:”wrap”}\,{“objectType”:”Field”\,”objectDomain”:”fields”\,”editActive”:false\,”order”:7\,”type”:”listselect”\,”label”:”Your Rutgers location:”\,”input_limit_msg”:”character(s) left”\,”label_pos”:”above”\,”list_type”:”dropdown”\,”multi_size”:5\,”list_show_value”:0\,”calc_auto_include”:0\,”user_state”:0\,”num_sort”:0\,”show_help”:0\,”show_desc”:0\,”desc_pos”:”none”\,”required”:1\,”options”:[{“errors”:[]\,”max_options”:”0″\,”label”:”Rutgers University\u2013Camden”\,”value”:”rutgers-university-camden”\,”calc”:””\,”selected”:”0″\,”settingModel”:{“settings”:false\,”hide_merge_tags”:false\,”error”:false\,”name”:”options”\,”type”:”option-repeater”\,”label”:”Options Add New  Import”\,”width”:”full”\,”group”:””\,”value”:[{“label”:”One”\,”value”:”one”\,”calc”:””\,”selected”:0\,”order”:0}\,{“label”:”Two”\,”value”:”two”\,”calc”:””\,”selected”:0\,”order”:1}\,{“label”:”Three”\,”value”:”three”\,”calc”:””\,”selected”:0\,”order”:2}]\,”columns”:{“label”:{“header”:”Label”\,”default”:””}\,”value”:{“header”:”Value”\,”default”:””}\,”calc”:{“header”:”Calc Value”\,”default”:””}\,”selected”:{“header”:”“\,”default”:0}}}}\,{“errors”:[]\,”max_options”:”0″\,”label”:”Rutgers University\u2013New Brunswick”\,”value”:”rutgers-university-new-brunswick”\,”calc”:””\,”selected”:”0″\,”settingModel”:{“settings”:false\,”hide_merge_tags”:false\,”error”:false\,”name”:”options”\,”type”:”option-repeater”\,”label”:”Options Add New  Import”\,”width”:”full”\,”group”:””\,”value”:[{“label”:”One”\,”value”:”one”\,”calc”:””\,”selected”:0\,”order”:0}\,{“label”:”Two”\,”value”:”two”\,”calc”:””\,”selected”:0\,”order”:1}\,{“label”:”Three”\,”value”:”three”\,”calc”:””\,”selected”:0\,”order”:2}]\,”columns”:{“label”:{“header”:”Label”\,”default”:””}\,”value”:{“header”:”Value”\,”default”:””}\,”calc”:{“header”:”Calc Value”\,”default”:””}\,”selected”:{“header”:”“\,”default”:0}}}}\,{“errors”:[]\,”max_options”:”0″\,”label”:”Rutgers Universit\u2013Newark”\,”value”:”rutgers-universit-newark”\,”calc”:””\,”selected”:”0″\,”settingModel”:{“settings”:false\,”hide_merge_tags”:false\,”error”:false\,”name”:”options”\,”type”:”option-repeater”\,”label”:”Options Add New  Import”\,”width”:”full”\,”group”:””\,”value”:[{“label”:”One”\,”value”:”one”\,”calc”:””\,”selected”:0\,”order”:0}\,{“label”:”Two”\,”value”:”two”\,”calc”:””\,”selected”:0\,”order”:1}\,{“label”:”Three”\,”value”:”three”\,”calc”:””\,”selected”:0\,”order”:2}]\,”columns”:{“label”:{“header”:”Label”\,”default”:””}\,”value”:{“header”:”Value”\,”default”:””}\,”calc”:{“header”:”Calc Value”\,”default”:””}\,”selected”:{“header”:”“\,”default”:0}}}}\,{“errors”:[]\,”max_options”:”0″\,”label”:”RBHS”\,”value”:”RBHS”\,”calc”:””\,”selected”:”0″\,”settingModel”:{“settings”:false\,”hide_merge_tags”:false\,”error”:false\,”name”:”options”\,”type”:”option-repeater”\,”label”:”Options Add New  Import”\,”width”:”full”\,”group”:””\,”value”:[{“label”:”One”\,”value”:”one”\,”calc”:””\,”selected”:0\,”order”:0}\,{“label”:”Two”\,”value”:”two”\,”calc”:””\,”selected”:0\,”order”:1}\,{“label”:”Three”\,”value”:”three”\,”calc”:””\,”selected”:0\,”order”:2}]\,”columns”:{“label”:{“header”:”Label”\,”default”:””}\,”value”:{“header”:”Value”\,”default”:””}\,”calc”:{“header”:”Calc Value”\,”default”:””}\,”selected”:{“header”:”“\,”default”:0}}}}]\,”key”:”listselect_562″\,”list”:[]\,”user_info_field_group”:””\,”admin_label”:””\,”help_text”:””\,”desc_text”:””\,”element_class”:””\,”container_class”:””\,”field_label”:”Your Rutgers location:”\,”field_key”:”listselect_562″\,”drawerDisabled”:””\,”id”:152\,”beforeField”:””\,”afterField”:””\,”value”:””\,”parentType”:”list”\,”element_templates”:[“listselect”\,”input”]\,”old_classname”:”list-select”\,”wrap_template”:”wrap”}\,{“objectType”:”Field”\,”objectDomain”:”fields”\,”editActive”:false\,”order”:8\,”type”:”textbox”\,”label”:”Your department affiliation:”\,”input_limit_msg”:”character(s) left”\,”label_pos”:”above”\,”user_info_field_group”:1\,”disable_input”:0\,”input_limit_type”:”char”\,”calc_auto_include”:0\,”datepicker”:0\,”user_state”:0\,”autocomplete_off”:0\,”num_sort”:0\,”show_help”:0\,”show_desc”:0\,”desc_pos”:”none”\,”required”:1\,”key”:”textbox_563″\,”placeholder”:””\,”first_name”:””\,”last_name”:””\,”user_address_1″:””\,”user_address_2″:””\,”user_city”:””\,”user_zip”:””\,”user_phone”:””\,”user_email”:””\,”mask”:””\,”input_limit”:””\,”admin_label”:””\,”user_info_field_group_name”:””\,”user_info_field_group_custom”:””\,”help_text”:””\,”desc_text”:””\,”element_class”:””\,”default”:””\,”container_class”:””\,”manual_key”:””\,”custom_mask”:””\,”custom_name_attribute”:””\,”personally_identifiable”:””\,”value”:””\,”field_label”:”Your department affiliation:”\,”field_key”:”textbox_563″\,”id”:153\,”beforeField”:””\,”afterField”:””\,”parentType”:”textbox”\,”element_templates”:[“textbox”\,”input”]\,”old_classname”:””\,”wrap_template”:”wrap”}\,{“objectType”:”Field”\,”objectDomain”:”fields”\,”editActive”:false\,”order”:9\,”type”:”textbox”\,”label”:”Name of your group’s PI (if you have one):”\,”input_limit_msg”:”character(s) left”\,”label_pos”:”above”\,”user_info_field_group”:1\,”disable_input”:0\,”input_limit_type”:”char”\,”calc_auto_include”:0\,”datepicker”:0\,”user_state”:0\,”autocomplete_off”:0\,”num_sort”:0\,”show_help”:0\,”show_desc”:0\,”desc_pos”:”none”\,”required”:1\,”key”:”textbox_564″\,”placeholder”:””\,”first_name”:””\,”last_name”:””\,”user_address_1″:””\,”user_address_2″:””\,”user_city”:””\,”user_zip”:””\,”user_phone”:””\,”user_email”:””\,”mask”:””\,”input_limit”:””\,”admin_label”:””\,”user_info_field_group_name”:””\,”user_info_field_group_custom”:””\,”help_text”:””\,”desc_text”:””\,”element_class”:””\,”default”:””\,”container_class”:””\,”manual_key”:””\,”custom_mask”:””\,”custom_name_attribute”:””\,”personally_identifiable”:””\,”value”:””\,”field_label”:”Name of your group’s PI (if you have one):”\,”field_key”:”textbox_564″\,”id”:154\,”beforeField”:””\,”afterField”:””\,”parentType”:”textbox”\,”element_templates”:[“textbox”\,”input”]\,”old_classname”:””\,”wrap_template”:”wrap”}\,{“objectType”:”Field”\,”objectDomain”:”fields”\,”editActive”:false\,”order”:10\,”type”:”listselect”\,”label”:”Below\, please select the workshop session you will attend:”\,”input_limit_msg”:”character(s) left”\,”label_pos”:”above”\,”list_type”:”dropdown”\,”multi_size”:5\,”list_show_value”:0\,”calc_auto_include”:0\,”user_state”:0\,”num_sort”:0\,”show_help”:0\,”show_desc”:0\,”desc_pos”:”none”\,”required”:1\,”options”:[{“errors”:[]\,”max_options”:”0″\,”label”:”Friday\, June 11\, 10:00am – 1:00pm\, Remote via Zoom”\,”value”:”June 11 June 11 10.00am – 1.00pm Remote via Zoom”\,”calc”:””\,”selected”:”0″\,”settingModel”:{“settings”:false\,”hide_merge_tags”:false\,”error”:false\,”name”:”options”\,”type”:”option-repeater”\,”label”:”Options Add New  Import”\,”width”:”full”\,”group”:””\,”value”:[{“label”:”One”\,”value”:”one”\,”calc”:””\,”selected”:0\,”order”:0}\,{“label”:”Two”\,”value”:”two”\,”calc”:””\,”selected”:0\,”order”:1}\,{“label”:”Three”\,”value”:”three”\,”calc”:””\,”selected”:0\,”order”:2}]\,”columns”:{“label”:{“header”:”Label”\,”default”:””}\,”value”:{“header”:”Value”\,”default”:””}\,”calc”:{“header”:”Calc Value”\,”default”:””}\,”selected”:{“header”:”“\,”default”:0}}}\,”manual_value”:true}]\,”key”:”listselect_565″\,”list”:[]\,”user_info_field_group”:””\,”admin_label”:””\,”help_text”:” \n“\,”desc_text”:””\,”element_class”:””\,”container_class”:””\,”drawerDisabled”:false\,”field_label”:”Below\, please select the workshop session you will attend:”\,”field_key”:”listselect_565″\,”id”:155\,”beforeField”:””\,”afterField”:””\,”value”:””\,”parentType”:”list”\,”element_templates”:[“listselect”\,”input”]\,”old_classname”:”list-select”\,”wrap_template”:”wrap”}\,{“objectType”:”Field”\,”objectDomain”:”fields”\,”editActive”:false\,”order”:11\,”type”:”submit”\,”label”:”Submit this request”\,”input_limit_msg”:”character(s) left”\,”show_help”:0\,”show_desc”:0\,”desc_pos”:”none”\,”processing_label”:”Processing”\,”key”:”submit_566″\,”help_text”:””\,”desc_text”:””\,”element_class”:””\,”container_class”:””\,”field_label”:”Submit this request”\,”field_key”:”submit_566″\,”id”:156\,”beforeField”:””\,”afterField”:””\,”value”:””\,”label_pos”:”above”\,”parentType”:”textbox”\,”element_templates”:[“submit”\,”button”\,”input”]\,”old_classname”:””\,”wrap_template”:”wrap-no-label”}];nfForms.push(form);
URL:https://it.rutgers.edu/event/intro-to-deep-learning-with-python-and-keras-friday-june-11/
END:VEVENT
END:VCALENDAR