BEGIN:VCALENDAR
VERSION:2.0
PRODID:-//Information Technology - ECPv6.0.10//NONSGML v1.0//EN
CALSCALE:GREGORIAN
METHOD:PUBLISH
X-ORIGINAL-URL:https://it.rutgers.edu
X-WR-CALDESC:Events for Information Technology
REFRESH-INTERVAL;VALUE=DURATION:PT1H
X-Robots-Tag:noindex
X-PUBLISHED-TTL:PT1H
BEGIN:VTIMEZONE
TZID:America/New_York
BEGIN:DAYLIGHT
TZOFFSETFROM:-0500
TZOFFSETTO:-0400
TZNAME:EDT
DTSTART:20200308T070000
END:DAYLIGHT
BEGIN:STANDARD
TZOFFSETFROM:-0400
TZOFFSETTO:-0500
TZNAME:EST
DTSTART:20201101T060000
END:STANDARD
END:VTIMEZONE
BEGIN:VEVENT
DTSTART;TZID=America/New_York:20200903T100000
DTEND;TZID=America/New_York:20200903T120000
DTSTAMP:20260423T003854
CREATED:20200901T194213Z
LAST-MODIFIED:20200904T200200Z
UID:5516-1599127200-1599134400@it.rutgers.edu
SUMMARY:Weekly open workshop
DESCRIPTION:Each week\, we’ll host a brief Zoom session that provides: \n1. a brief review of some basics for new Amarel cluster users. \n2. shifts into specific technical topics and Q&A. \nWe’ll have occasional guest presenters (researchers\, librarians\, scholars\, or other professionals) to share info\, news\, techniques\, or best practices for managing data and computational research. We’re also very interested in hearing what topics you’d like to have presented. \nThese sessions are currently scheduled for 10am-12pm every Thursday. Read our box file for more details. Please stop by to watch\, listen\, or join the conversation. You can download and import this iCalendar (.ics) file to add the weekly training event to your calendar system. \nZoom meeting link Meeting ID: 834 1172 8507 Password: 768002
URL:https://it.rutgers.edu/event/weekly-open-workshop-9-3-20/
CATEGORIES:OARC
ORGANIZER;CN="Galen%20Collier":MAILTO:galen.collier@rutgers.edu
END:VEVENT
END:VCALENDAR